BEGIN:VCALENDAR
VERSION:2.0
PRODID:-//Saint-Nizier-le-Bouchoux - ECPv5.11.0//NONSGML v1.0//EN
CALSCALE:GREGORIAN
METHOD:PUBLISH
X-WR-CALNAME:Saint-Nizier-le-Bouchoux
X-ORIGINAL-URL:https://www.saintnizierlebouchoux.com
X-WR-CALDESC:évènements pour Saint-Nizier-le-Bouchoux
BEGIN:VTIMEZONE
TZID:Europe/Paris
BEGIN:DAYLIGHT
TZOFFSETFROM:+0100
TZOFFSETTO:+0200
TZNAME:CEST
DTSTART:20250330T010000
END:DAYLIGHT
BEGIN:STANDARD
TZOFFSETFROM:+0200
TZOFFSETTO:+0100
TZNAME:CET
DTSTART:20251026T010000
END:STANDARD
END:VTIMEZONE
BEGIN:VEVENT
DTSTART;TZID=Europe/Paris:20250516T080000
DTEND;TZID=Europe/Paris:20250621T170000
DTSTAMP:20260425T182546
CREATED:20250516T072058Z
LAST-MODIFIED:20250516T072058Z
UID:1379-1747382400-1750525200@www.saintnizierlebouchoux.com
SUMMARY:SPECTACLE LES ETERNELLES 20 ET 21 JUIN 2025
DESCRIPTION:SPECTACLE LES ETERNELLES 20 ET 21 JUIN 2025
URL:https://www.saintnizierlebouchoux.com/evenement/spectacle-les-eternelles-20-et-21-juin-2025/
END:VEVENT
END:VCALENDAR