BEGIN:VCALENDAR
VERSION:2.0
PRODID:-//Saint-Nizier-le-Bouchoux - ECPv5.11.0//NONSGML v1.0//EN
CALSCALE:GREGORIAN
METHOD:PUBLISH
X-WR-CALNAME:Saint-Nizier-le-Bouchoux
X-ORIGINAL-URL:https://www.saintnizierlebouchoux.com
X-WR-CALDESC:évènements pour Saint-Nizier-le-Bouchoux
BEGIN:VTIMEZONE
TZID:Europe/Paris
BEGIN:DAYLIGHT
TZOFFSETFROM:+0100
TZOFFSETTO:+0200
TZNAME:CEST
DTSTART:20260329T010000
END:DAYLIGHT
BEGIN:STANDARD
TZOFFSETFROM:+0200
TZOFFSETTO:+0100
TZNAME:CET
DTSTART:20261025T010000
END:STANDARD
END:VTIMEZONE
BEGIN:VEVENT
DTSTART;TZID=Europe/Paris:20260305T080000
DTEND;TZID=Europe/Paris:20261128T170000
DTSTAMP:20260425T163718
CREATED:20260305T152753Z
LAST-MODIFIED:20260305T152912Z
UID:1527-1772697600-1795885200@www.saintnizierlebouchoux.com
SUMMARY:PLAN D'EAU DE MEPILLAT REGLEMENT DE LA PECHE
DESCRIPTION:RÈGLEMENT DE LA PÊCHE saison 2026
URL:https://www.saintnizierlebouchoux.com/evenement/plan-deau-de-mepillat-reglement-de-la-peche/
END:VEVENT
END:VCALENDAR