BEGIN:VCALENDAR
VERSION:2.0
PRODID:-//Saint-Nizier-le-Bouchoux - ECPv5.11.0//NONSGML v1.0//EN
CALSCALE:GREGORIAN
METHOD:PUBLISH
X-WR-CALNAME:Saint-Nizier-le-Bouchoux
X-ORIGINAL-URL:https://www.saintnizierlebouchoux.com
X-WR-CALDESC:évènements pour Saint-Nizier-le-Bouchoux
BEGIN:VTIMEZONE
TZID:Europe/Paris
BEGIN:DAYLIGHT
TZOFFSETFROM:+0100
TZOFFSETTO:+0200
TZNAME:CEST
DTSTART:20250330T010000
END:DAYLIGHT
BEGIN:STANDARD
TZOFFSETFROM:+0200
TZOFFSETTO:+0100
TZNAME:CET
DTSTART:20251026T010000
END:STANDARD
END:VTIMEZONE
BEGIN:VEVENT
DTSTART;TZID=Europe/Paris:20250626T080000
DTEND;TZID=Europe/Paris:20250830T170000
DTSTAMP:20260426T012657
CREATED:20250626T135227Z
LAST-MODIFIED:20250626T135227Z
UID:1432-1750924800-1756573200@www.saintnizierlebouchoux.com
SUMMARY:HORAIRES D'ÉTÉ DÉCHETTERIES
DESCRIPTION:Horaires Eté
URL:https://www.saintnizierlebouchoux.com/evenement/horaires-dete-dechetteries/
END:VEVENT
END:VCALENDAR