BEGIN:VCALENDAR
VERSION:2.0
PRODID:-//Saint-Nizier-le-Bouchoux - ECPv5.11.0//NONSGML v1.0//EN
CALSCALE:GREGORIAN
METHOD:PUBLISH
X-WR-CALNAME:Saint-Nizier-le-Bouchoux
X-ORIGINAL-URL:https://www.saintnizierlebouchoux.com
X-WR-CALDESC:évènements pour Saint-Nizier-le-Bouchoux
BEGIN:VTIMEZONE
TZID:Europe/Paris
BEGIN:DAYLIGHT
TZOFFSETFROM:+0100
TZOFFSETTO:+0200
TZNAME:CEST
DTSTART:20250330T010000
END:DAYLIGHT
BEGIN:STANDARD
TZOFFSETFROM:+0200
TZOFFSETTO:+0100
TZNAME:CET
DTSTART:20251026T010000
END:STANDARD
BEGIN:DAYLIGHT
TZOFFSETFROM:+0100
TZOFFSETTO:+0200
TZNAME:CEST
DTSTART:20260329T010000
END:DAYLIGHT
BEGIN:STANDARD
TZOFFSETFROM:+0200
TZOFFSETTO:+0100
TZNAME:CET
DTSTART:20261025T010000
END:STANDARD
END:VTIMEZONE
BEGIN:VEVENT
DTSTART;TZID=Europe/Paris:20250828T080000
DTEND;TZID=Europe/Paris:20260531T170000
DTSTAMP:20260425T180945
CREATED:20250828T133944Z
LAST-MODIFIED:20250828T133944Z
UID:1453-1756368000-1780246800@www.saintnizierlebouchoux.com
SUMMARY:HORAIRES DECHETERRIE À PARTIR DU 1ER SEPTEMBRE 2025
DESCRIPTION:
URL:https://www.saintnizierlebouchoux.com/evenement/horaires-decheterrie-a-partir-du-1er-septembre-2025/
END:VEVENT
END:VCALENDAR