BEGIN:VCALENDAR
VERSION:2.0
PRODID:-//Saint-Nizier-le-Bouchoux - ECPv5.11.0//NONSGML v1.0//EN
CALSCALE:GREGORIAN
METHOD:PUBLISH
X-WR-CALNAME:Saint-Nizier-le-Bouchoux
X-ORIGINAL-URL:https://www.saintnizierlebouchoux.com
X-WR-CALDESC:évènements pour Saint-Nizier-le-Bouchoux
BEGIN:VTIMEZONE
TZID:Europe/Paris
BEGIN:DAYLIGHT
TZOFFSETFROM:+0100
TZOFFSETTO:+0200
TZNAME:CEST
DTSTART:20250330T010000
END:DAYLIGHT
BEGIN:STANDARD
TZOFFSETFROM:+0200
TZOFFSETTO:+0100
TZNAME:CET
DTSTART:20251026T010000
END:STANDARD
END:VTIMEZONE
BEGIN:VEVENT
DTSTART;TZID=Europe/Paris:20250602T080000
DTEND;TZID=Europe/Paris:20250713T170000
DTSTAMP:20260425T213932
CREATED:20250602T080434Z
LAST-MODIFIED:20250602T080434Z
UID:1393-1748851200-1752426000@www.saintnizierlebouchoux.com
SUMMARY:F^TE DU POULET AU PLAN D'EAU DE MEPILLAT LE 13 JUILLET 2025
DESCRIPTION:affiche poulet 2025 40è année
URL:https://www.saintnizierlebouchoux.com/evenement/fte-du-poulet-au-plan-deau-de-mepillat-le-13-juillet-2025/
END:VEVENT
END:VCALENDAR