BEGIN:VCALENDAR
VERSION:2.0
PRODID:-//Saint-Nizier-le-Bouchoux - ECPv5.11.0//NONSGML v1.0//EN
CALSCALE:GREGORIAN
METHOD:PUBLISH
X-WR-CALNAME:Saint-Nizier-le-Bouchoux
X-ORIGINAL-URL:https://www.saintnizierlebouchoux.com
X-WR-CALDESC:évènements pour Saint-Nizier-le-Bouchoux
BEGIN:VTIMEZONE
TZID:Europe/Paris
BEGIN:DAYLIGHT
TZOFFSETFROM:+0100
TZOFFSETTO:+0200
TZNAME:CEST
DTSTART:20250330T010000
END:DAYLIGHT
BEGIN:STANDARD
TZOFFSETFROM:+0200
TZOFFSETTO:+0100
TZNAME:CET
DTSTART:20251026T010000
END:STANDARD
END:VTIMEZONE
BEGIN:VEVENT
DTSTART;TZID=Europe/Paris:20250624T080000
DTEND;TZID=Europe/Paris:20250628T170000
DTSTAMP:20260426T031124
CREATED:20250624T060142Z
LAST-MODIFIED:20250624T060142Z
UID:1428-1750752000-1751130000@www.saintnizierlebouchoux.com
SUMMARY:EXPOSITION INTERACTIVE DON DU SANG ET DON D'ORGANES 28 JUIN DE 9H30 À 11H30
DESCRIPTION:EXPOSITION INTERACTIVE
URL:https://www.saintnizierlebouchoux.com/evenement/exposition-interactive-don-du-sang-et-don-dorganes-28-juin-de-9h30-a-11h30/
END:VEVENT
END:VCALENDAR