BEGIN:VCALENDAR
VERSION:2.0
PRODID:-//Saint-Nizier-le-Bouchoux - ECPv5.11.0//NONSGML v1.0//EN
CALSCALE:GREGORIAN
METHOD:PUBLISH
X-WR-CALNAME:Saint-Nizier-le-Bouchoux
X-ORIGINAL-URL:https://www.saintnizierlebouchoux.com
X-WR-CALDESC:évènements pour Saint-Nizier-le-Bouchoux
BEGIN:VTIMEZONE
TZID:Europe/Paris
BEGIN:DAYLIGHT
TZOFFSETFROM:+0100
TZOFFSETTO:+0200
TZNAME:CEST
DTSTART:20260329T010000
END:DAYLIGHT
BEGIN:STANDARD
TZOFFSETFROM:+0200
TZOFFSETTO:+0100
TZNAME:CET
DTSTART:20261025T010000
END:STANDARD
END:VTIMEZONE
BEGIN:VEVENT
DTSTART;TZID=Europe/Paris:20260130T080000
DTEND;TZID=Europe/Paris:20260630T170000
DTSTAMP:20260425T182244
CREATED:20260130T134931Z
LAST-MODIFIED:20260130T134931Z
UID:1503-1769760000-1782838800@www.saintnizierlebouchoux.com
SUMMARY:EMPLOI SAISONNIER CAMPING MEPILLAT
DESCRIPTION:annonce saisonnier mars juin 2026
URL:https://www.saintnizierlebouchoux.com/evenement/emploi-saisonnier-camping-mepillat/
END:VEVENT
END:VCALENDAR