BEGIN:VCALENDAR
VERSION:2.0
PRODID:-//Saint-Nizier-le-Bouchoux - ECPv5.11.0//NONSGML v1.0//EN
CALSCALE:GREGORIAN
METHOD:PUBLISH
X-WR-CALNAME:Saint-Nizier-le-Bouchoux
X-ORIGINAL-URL:https://www.saintnizierlebouchoux.com
X-WR-CALDESC:évènements pour Saint-Nizier-le-Bouchoux
BEGIN:VTIMEZONE
TZID:Europe/Paris
BEGIN:DAYLIGHT
TZOFFSETFROM:+0100
TZOFFSETTO:+0200
TZNAME:CEST
DTSTART:20250330T010000
END:DAYLIGHT
BEGIN:STANDARD
TZOFFSETFROM:+0200
TZOFFSETTO:+0100
TZNAME:CET
DTSTART:20251026T010000
END:STANDARD
END:VTIMEZONE
BEGIN:VEVENT
DTSTART;TZID=Europe/Paris:20250825T080000
DTEND;TZID=Europe/Paris:20251231T170000
DTSTAMP:20260425T200932
CREATED:20250825T125657Z
LAST-MODIFIED:20250825T125657Z
UID:1447-1756108800-1767200400@www.saintnizierlebouchoux.com
SUMMARY:DÉPÔT DE PAIN À PARTIR DU 2 SEPTEMBRE PLACE DE L'ÉGLISE
DESCRIPTION:AFFICHE DEPOT DE PAIN ST NIZIER LE BOUCHOUX
URL:https://www.saintnizierlebouchoux.com/evenement/depot-de-pain-a-partir-du-2-septembre-place-de-leglise/
END:VEVENT
END:VCALENDAR