BEGIN:VCALENDAR
VERSION:2.0
PRODID:-//Saint-Nizier-le-Bouchoux - ECPv5.11.0//NONSGML v1.0//EN
CALSCALE:GREGORIAN
METHOD:PUBLISH
X-WR-CALNAME:Saint-Nizier-le-Bouchoux
X-ORIGINAL-URL:https://www.saintnizierlebouchoux.com
X-WR-CALDESC:évènements pour Saint-Nizier-le-Bouchoux
BEGIN:VTIMEZONE
TZID:Europe/Paris
BEGIN:DAYLIGHT
TZOFFSETFROM:+0100
TZOFFSETTO:+0200
TZNAME:CEST
DTSTART:20260329T010000
END:DAYLIGHT
BEGIN:STANDARD
TZOFFSETFROM:+0200
TZOFFSETTO:+0100
TZNAME:CET
DTSTART:20261025T010000
END:STANDARD
END:VTIMEZONE
BEGIN:VEVENT
DTSTART;TZID=Europe/Paris:20260129T080000
DTEND;TZID=Europe/Paris:20260206T170000
DTSTAMP:20260425T200531
CREATED:20260129T105156Z
LAST-MODIFIED:20260129T110902Z
UID:1497-1769673600-1770397200@www.saintnizierlebouchoux.com
SUMMARY:Date limite d'inscrption sur les listes électorales
DESCRIPTION:DATE LIMITE INSCRIPTION LISTE ELECTORALE 2026
URL:https://www.saintnizierlebouchoux.com/evenement/date-limite-dinscrption-sur-les-listes-electorales/
END:VEVENT
END:VCALENDAR