BEGIN:VCALENDAR
VERSION:2.0
PRODID:-//Saint-Nizier-le-Bouchoux - ECPv5.11.0//NONSGML v1.0//EN
CALSCALE:GREGORIAN
METHOD:PUBLISH
X-WR-CALNAME:Saint-Nizier-le-Bouchoux
X-ORIGINAL-URL:https://www.saintnizierlebouchoux.com
X-WR-CALDESC:évènements pour Saint-Nizier-le-Bouchoux
BEGIN:VTIMEZONE
TZID:Europe/Paris
BEGIN:DAYLIGHT
TZOFFSETFROM:+0100
TZOFFSETTO:+0200
TZNAME:CEST
DTSTART:20250330T010000
END:DAYLIGHT
BEGIN:STANDARD
TZOFFSETFROM:+0200
TZOFFSETTO:+0100
TZNAME:CET
DTSTART:20251026T010000
END:STANDARD
END:VTIMEZONE
BEGIN:VEVENT
DTSTART;TZID=Europe/Paris:20250716T080000
DTEND;TZID=Europe/Paris:20250808T170000
DTSTAMP:20260425T214936
CREATED:20250716T065656Z
LAST-MODIFIED:20250717T064752Z
UID:1441-1752652800-1754672400@www.saintnizierlebouchoux.com
SUMMARY:DATE DE FERMETURE DE LA MAIRIE POUR CONGÉS
DESCRIPTION:AFFICHE FERMETURE POUR CONGES
URL:https://www.saintnizierlebouchoux.com/evenement/date-de-fermeture-de-la-mairie-pour-conges/
END:VEVENT
END:VCALENDAR