BEGIN:VCALENDAR
VERSION:2.0
PRODID:-//Saint-Nizier-le-Bouchoux - ECPv5.11.0//NONSGML v1.0//EN
CALSCALE:GREGORIAN
METHOD:PUBLISH
X-WR-CALNAME:Saint-Nizier-le-Bouchoux
X-ORIGINAL-URL:https://www.saintnizierlebouchoux.com
X-WR-CALDESC:évènements pour Saint-Nizier-le-Bouchoux
BEGIN:VTIMEZONE
TZID:Europe/Paris
BEGIN:DAYLIGHT
TZOFFSETFROM:+0100
TZOFFSETTO:+0200
TZNAME:CEST
DTSTART:20250330T010000
END:DAYLIGHT
BEGIN:STANDARD
TZOFFSETFROM:+0200
TZOFFSETTO:+0100
TZNAME:CET
DTSTART:20251026T010000
END:STANDARD
END:VTIMEZONE
BEGIN:VEVENT
DTSTART;TZID=Europe/Paris:20250519T080000
DTEND;TZID=Europe/Paris:20250612T170000
DTSTAMP:20260425T182244
CREATED:20250519T085053Z
LAST-MODIFIED:20250519T085053Z
UID:1386-1747641600-1749747600@www.saintnizierlebouchoux.com
SUMMARY:COLLECTE EXCEPTIONNELLE D'AMIANTE PIRAJOUX LE 12 JUIN 2025
DESCRIPTION:Affiche déchèterie collecte amiante
URL:https://www.saintnizierlebouchoux.com/evenement/collecte-exceptionnelle-damiante-pirajoux-le-12-juin-2025/
END:VEVENT
END:VCALENDAR