BEGIN:VCALENDAR
VERSION:2.0
PRODID:-//Saint-Nizier-le-Bouchoux - ECPv5.11.0//NONSGML v1.0//EN
CALSCALE:GREGORIAN
METHOD:PUBLISH
X-WR-CALNAME:Saint-Nizier-le-Bouchoux
X-ORIGINAL-URL:https://www.saintnizierlebouchoux.com
X-WR-CALDESC:évènements pour Saint-Nizier-le-Bouchoux
BEGIN:VTIMEZONE
TZID:Europe/Paris
BEGIN:DAYLIGHT
TZOFFSETFROM:+0100
TZOFFSETTO:+0200
TZNAME:CEST
DTSTART:20250330T010000
END:DAYLIGHT
BEGIN:STANDARD
TZOFFSETFROM:+0200
TZOFFSETTO:+0100
TZNAME:CET
DTSTART:20251026T010000
END:STANDARD
END:VTIMEZONE
BEGIN:VEVENT
DTSTART;TZID=Europe/Paris:20250212T103000
DTEND;TZID=Europe/Paris:20250508T113000
DTSTAMP:20260422T103833
CREATED:20250212T130305Z
LAST-MODIFIED:20250212T131859Z
UID:1171-1739356200-1746703800@www.saintnizierlebouchoux.com
SUMMARY:Cérémonie du 8 mai 2025
DESCRIPTION:La cérémonie commémorative du 8 mai aura lieu : \nLe lundi 8 mai à 10 h 30 \n\nRassemblement cour de la mairie à 10 h 15.\nTous les habitants et enfants des écoles sont invités à y participer.\nUn vin d’honneur suivra la cérémonie.\nRemise de dictionnaires aux enfants quittant l’école primaire.
URL:https://www.saintnizierlebouchoux.com/evenement/ceremonie-du-8-mai/
LOCATION:Mairie
ORGANIZER;CN="Commune":MAILTO:mairie.stnizierlebouchoux@wanadoo.fr
END:VEVENT
END:VCALENDAR