BEGIN:VCALENDAR
VERSION:2.0
PRODID:-//Saint-Nizier-le-Bouchoux - ECPv5.11.0//NONSGML v1.0//EN
CALSCALE:GREGORIAN
METHOD:PUBLISH
X-WR-CALNAME:Saint-Nizier-le-Bouchoux
X-ORIGINAL-URL:https://www.saintnizierlebouchoux.com
X-WR-CALDESC:évènements pour Saint-Nizier-le-Bouchoux
BEGIN:VTIMEZONE
TZID:Europe/Paris
BEGIN:DAYLIGHT
TZOFFSETFROM:+0100
TZOFFSETTO:+0200
TZNAME:CEST
DTSTART:20260329T010000
END:DAYLIGHT
BEGIN:STANDARD
TZOFFSETFROM:+0200
TZOFFSETTO:+0100
TZNAME:CET
DTSTART:20261025T010000
END:STANDARD
END:VTIMEZONE
BEGIN:VEVENT
DTSTART;TZID=Europe/Paris:20260318T080000
DTEND;TZID=Europe/Paris:20260320T200000
DTSTAMP:20260422T135431
CREATED:20260318T073039Z
LAST-MODIFIED:20260318T073039Z
UID:1549-1773820800-1774036800@www.saintnizierlebouchoux.com
SUMMARY:AVIS DE REUNION DU CONSEIL MUNICIPAL
DESCRIPTION:avis de réunion du conseil municipal
URL:https://www.saintnizierlebouchoux.com/evenement/avis-de-reunion-du-conseil-municipal/
END:VEVENT
END:VCALENDAR