BEGIN:VCALENDAR
VERSION:2.0
PRODID:-//Saint-Nizier-le-Bouchoux - ECPv5.11.0//NONSGML v1.0//EN
CALSCALE:GREGORIAN
METHOD:PUBLISH
X-WR-CALNAME:Saint-Nizier-le-Bouchoux
X-ORIGINAL-URL:https://www.saintnizierlebouchoux.com
X-WR-CALDESC:évènements pour Saint-Nizier-le-Bouchoux
BEGIN:VTIMEZONE
TZID:Europe/Paris
BEGIN:DAYLIGHT
TZOFFSETFROM:+0100
TZOFFSETTO:+0200
TZNAME:CEST
DTSTART:20260329T010000
END:DAYLIGHT
BEGIN:STANDARD
TZOFFSETFROM:+0200
TZOFFSETTO:+0100
TZNAME:CET
DTSTART:20261025T010000
END:STANDARD
END:VTIMEZONE
BEGIN:VEVENT
DTSTART;TZID=Europe/Paris:20260305T080000
DTEND;TZID=Europe/Paris:20260315T170000
DTSTAMP:20260425T182133
CREATED:20260305T154524Z
LAST-MODIFIED:20260305T154524Z
UID:1534-1772697600-1773594000@www.saintnizierlebouchoux.com
SUMMARY:AVIS DE REUNION DU CONSEIL MUNICIPAL 05 MARS 2026
DESCRIPTION:AVIS DE REUNION DU CONSEIL MUNICIPAL
URL:https://www.saintnizierlebouchoux.com/evenement/avis-de-reunion-du-conseil-municipal-05-mars-2026/
END:VEVENT
END:VCALENDAR